BEGIN:VCALENDAR
VERSION:2.0
PRODID:-//GeoForum - ECPv6.10.0//NONSGML v1.0//EN
CALSCALE:GREGORIAN
METHOD:PUBLISH
X-ORIGINAL-URL:https://geoforum.no
X-WR-CALDESC:Arrangement for GeoForum
REFRESH-INTERVAL;VALUE=DURATION:PT1H
X-Robots-Tag:noindex
X-PUBLISHED-TTL:PT1H
BEGIN:VTIMEZONE
TZID:Europe/Oslo
BEGIN:DAYLIGHT
TZOFFSETFROM:+0100
TZOFFSETTO:+0200
TZNAME:CEST
DTSTART:20170326T010000
END:DAYLIGHT
BEGIN:STANDARD
TZOFFSETFROM:+0200
TZOFFSETTO:+0100
TZNAME:CET
DTSTART:20171029T010000
END:STANDARD
END:VTIMEZONE
BEGIN:VEVENT
DTSTART;TZID=Europe/Oslo:20170112T090000
DTEND;TZID=Europe/Oslo:20170113T140000
DTSTAMP:20260424T080411
CREATED:20160911T132442Z
LAST-MODIFIED:20160911T133100Z
UID:10011181-1484211600-1484316000@geoforum.no
SUMMARY:Norgeodesi AS arrangerer NorKonf 2017
DESCRIPTION:Norkonf 2017 er en 2 dagers brukerkonferanse fullpakket med gode foredrag og kurs. \nLink til program og mer info
URL:https://geoforum.no/event/norgeodesi-as-arrangerer-norkonf-2017/
LOCATION:Holmen fjordhotell\, Slemmestadveien 64\, Nesbru\, Asker\, 1394 \, Norge
CATEGORIES:Eksterne kurs og konferanser
GEO:59.8513033;10.494808
X-APPLE-STRUCTURED-LOCATION;VALUE=URI;X-ADDRESS=Holmen fjordhotell Slemmestadveien 64 Nesbru Asker 1394  Norge;X-APPLE-RADIUS=500;X-TITLE=Slemmestadveien 64:geo:10.494808,59.8513033
END:VEVENT
END:VCALENDAR