BEGIN:VCALENDAR
VERSION:2.0
PRODID:-//GeoForum - ECPv6.10.0//NONSGML v1.0//EN
CALSCALE:GREGORIAN
METHOD:PUBLISH
X-ORIGINAL-URL:https://geoforum.no
X-WR-CALDESC:Arrangement for GeoForum
REFRESH-INTERVAL;VALUE=DURATION:PT1H
X-Robots-Tag:noindex
X-PUBLISHED-TTL:PT1H
BEGIN:VTIMEZONE
TZID:Europe/Oslo
BEGIN:DAYLIGHT
TZOFFSETFROM:+0100
TZOFFSETTO:+0200
TZNAME:CEST
DTSTART:20160327T010000
END:DAYLIGHT
BEGIN:STANDARD
TZOFFSETFROM:+0200
TZOFFSETTO:+0100
TZNAME:CET
DTSTART:20161030T010000
END:STANDARD
END:VTIMEZONE
BEGIN:VEVENT
DTSTART;TZID=Europe/Oslo:20161205T100000
DTEND;TZID=Europe/Oslo:20161206T133000
DTSTAMP:20260424T133815
CREATED:20151216T095759Z
LAST-MODIFIED:20161203T125718Z
UID:10011125-1480932000-1481031000@geoforum.no
SUMMARY:Kommunal geomatikkonferanse 2016
DESCRIPTION:Plantema får større plass i programmet i år etter tilbakemeldinger fra fjorårets konferanse. Plantemaene skal likevel ikke gå på bekostning av innlegg innen oppmåling og matrikkel. Konferansen har en egen sesjon med praktisk rettet innlegg der vi følger en sak fra delesøknad til tinglysning. I tillegg blir det informert om nyheter som du bør vite noe om. \nVel møtt! \nProgram \nFaktura for deltakeravgift har forfall etter 1. januar 2017. \n  \n  \n  \n  \nLink til program og foredrag fra Kommunal geomatikkonferanse 2015
URL:https://geoforum.no/event/kommunal-geomatikkonferanse-2016/
LOCATION:Scandic Fornebu\, Martin Linges vei 2\, Fornebu\, 1364
CATEGORIES:Konferanse
ORGANIZER;CN="GeoForum":MAILTO:marianne@geoforum.no
GEO:59.8972309;10.6323839
X-APPLE-STRUCTURED-LOCATION;VALUE=URI;X-ADDRESS=Scandic Fornebu Martin Linges vei 2 Fornebu 1364;X-APPLE-RADIUS=500;X-TITLE=Martin Linges vei 2:geo:10.6323839,59.8972309
END:VEVENT
END:VCALENDAR