BEGIN:VCALENDAR
VERSION:2.0
PRODID:-//GeoForum - ECPv6.10.0//NONSGML v1.0//EN
CALSCALE:GREGORIAN
METHOD:PUBLISH
X-WR-CALNAME:GeoForum
X-ORIGINAL-URL:https://geoforum.no
X-WR-CALDESC:Arrangement for GeoForum
REFRESH-INTERVAL;VALUE=DURATION:PT1H
X-Robots-Tag:noindex
X-PUBLISHED-TTL:PT1H
BEGIN:VTIMEZONE
TZID:Europe/Oslo
BEGIN:DAYLIGHT
TZOFFSETFROM:+0100
TZOFFSETTO:+0200
TZNAME:CEST
DTSTART:20160327T010000
END:DAYLIGHT
BEGIN:STANDARD
TZOFFSETFROM:+0200
TZOFFSETTO:+0100
TZNAME:CET
DTSTART:20161030T010000
END:STANDARD
END:VTIMEZONE
BEGIN:VEVENT
DTSTART;TZID=Europe/Oslo:20161116T080000
DTEND;TZID=Europe/Oslo:20161117T140000
DTSTAMP:20260424T133709
CREATED:20160812T103546Z
LAST-MODIFIED:20161007T121048Z
UID:10011164-1479283200-1479391200@geoforum.no
SUMMARY:Geodesi- og hydrografidagene 2016
DESCRIPTION:Geodesi- og hydrografidagene arrangeres i år i Stavanger\, 16.-17. november\, på nyrenoverte Quality Stavanger Airport Hotel. \n  \nprogram-geodesi-og-hydrografidagene-2016 \nPåmelding \n 
URL:https://geoforum.no/event/geodesi-og-hydrografidagene-2/
LOCATION:Quality Stavanger Airport Hotel\, Sommerveien 1\, Stavanger\, 4055
CATEGORIES:Konferanse
GEO:58.9397036;5.6841286
X-APPLE-STRUCTURED-LOCATION;VALUE=URI;X-ADDRESS=Quality Stavanger Airport Hotel Sommerveien 1 Stavanger 4055;X-APPLE-RADIUS=500;X-TITLE=Sommerveien 1:geo:5.6841286,58.9397036
END:VEVENT
BEGIN:VEVENT
DTSTART;TZID=Europe/Oslo:20161116T090000
DTEND;TZID=Europe/Oslo:20161117T150000
DTSTAMP:20260424T133709
CREATED:20160419T080636Z
LAST-MODIFIED:20160419T081825Z
UID:10011150-1479286800-1479394800@geoforum.no
SUMMARY:GISLINE brukermøte Bergen
DESCRIPTION:Norkart arrangerer brukermøte 5 ulike steder i Norge. \nMer informasjon finner du her
URL:https://geoforum.no/event/gisline-brukermote-bergen/
LOCATION:Quality Hotel Edvard Grieg\, Sandsliåsen 50\, Bergen\, 5254
CATEGORIES:Eksterne kurs og konferanser
GEO:60.2924004;5.2928488
X-APPLE-STRUCTURED-LOCATION;VALUE=URI;X-ADDRESS=Quality Hotel Edvard Grieg Sandsliåsen 50 Bergen 5254;X-APPLE-RADIUS=500;X-TITLE=Sandsliåsen 50:geo:5.2928488,60.2924004
END:VEVENT
BEGIN:VEVENT
DTSTART;TZID=Europe/Oslo:20161116T095000
DTEND;TZID=Europe/Oslo:20161116T150000
DTSTAMP:20260424T133709
CREATED:20160823T161609Z
LAST-MODIFIED:20161202T081727Z
UID:10011166-1479289800-1479308400@geoforum.no
SUMMARY:Fagdag om ledninger over og under bakken
DESCRIPTION:Geoforum Oslo og Akershus inviterer til fagdag om ledninger over og under bakken. Formålet er å ta for seg løsninger og problemstillinger knyttet til ledningsdata. \nFagdagen vil bli holdt i Oslo kommunes lokaler i Vahls gate 1. \nProgram \nPåmelding \nPresentasjoner fra fagdagen \nIngelöv Erikson – Undergrunnsprosjekt i Oslo \nÅsmund Hansen – Ulike krav til stedfesting \nGeir M Øien – FKB-Ledning bruksområder og utfordringer \nMorten Brunes-  3D-Kumkort \nFrode Faraas – Forsvarsbygg formidling av ledningsdata \nDag Høgvard – Ledninger i grunnen
URL:https://geoforum.no/event/fagdag-ledning/
CATEGORIES:Konferanse
END:VEVENT
BEGIN:VEVENT
DTSTART;TZID=Europe/Oslo:20161116T123000
DTEND;TZID=Europe/Oslo:20161116T180000
DTSTAMP:20260424T133709
CREATED:20161103T120824Z
LAST-MODIFIED:20161103T120825Z
UID:10011188-1479299400-1479319200@geoforum.no
SUMMARY:GIS-dagen i Bergen
DESCRIPTION:GeoForum Hordaland i samarbeid med Institutt for Geografi ved Universitetet i Bergen og Geodata AS inviterer til et dagsseminar. \nProgram \nPåmelding
URL:https://geoforum.no/event/gis-dagen-i-bergen-3/
CATEGORIES:Temadag lokalt
ORGANIZER;CN="GeoForum Hordaland":MAILTO:janerik.forde@bergen.kommune.no
END:VEVENT
END:VCALENDAR