BEGIN:VCALENDAR
VERSION:2.0
PRODID:-//GeoForum - ECPv6.10.0//NONSGML v1.0//EN
CALSCALE:GREGORIAN
METHOD:PUBLISH
X-WR-CALNAME:GeoForum
X-ORIGINAL-URL:https://geoforum.no
X-WR-CALDESC:Arrangement for GeoForum
REFRESH-INTERVAL;VALUE=DURATION:PT1H
X-Robots-Tag:noindex
X-PUBLISHED-TTL:PT1H
BEGIN:VTIMEZONE
TZID:Europe/Oslo
BEGIN:DAYLIGHT
TZOFFSETFROM:+0100
TZOFFSETTO:+0200
TZNAME:CEST
DTSTART:20160327T010000
END:DAYLIGHT
BEGIN:STANDARD
TZOFFSETFROM:+0200
TZOFFSETTO:+0100
TZNAME:CET
DTSTART:20161030T010000
END:STANDARD
END:VTIMEZONE
BEGIN:VEVENT
DTSTART;TZID=Europe/Oslo:20161115T090000
DTEND;TZID=Europe/Oslo:20161115T170000
DTSTAMP:20260424T133706
CREATED:20161014T113917Z
LAST-MODIFIED:20161014T114030Z
UID:10011185-1479200400-1479229200@geoforum.no
SUMMARY:Verdien av åpne data
DESCRIPTION:ULI Geoforum – vår svenske søsterorganisasjon – har fått finansiert en forskningsrapport som ser på den samfunnsøkonomiske nytten av åpne geodata. Rapporten\, samt foredrag om bruk av åpne data – og en paneldebatt – arrangeres 15. november i Stockholm. \nLes mer om arrangementet\, se programmet og meld deg på her
URL:https://geoforum.no/event/verdien-av-apne-data/
LOCATION:Kungliga Myntkabinettet\,\, Slottsbacken 6\, Stockholm\, Sverige
CATEGORIES:Eksterne kurs og konferanser
GEO:59.3259064;18.0733482
X-APPLE-STRUCTURED-LOCATION;VALUE=URI;X-ADDRESS=Kungliga Myntkabinettet Slottsbacken 6 Stockholm Sverige;X-APPLE-RADIUS=500;X-TITLE=Slottsbacken 6:geo:18.0733482,59.3259064
END:VEVENT
END:VCALENDAR