BEGIN:VCALENDAR
VERSION:2.0
PRODID:-//GeoForum - ECPv6.10.0//NONSGML v1.0//EN
CALSCALE:GREGORIAN
METHOD:PUBLISH
X-ORIGINAL-URL:https://geoforum.no
X-WR-CALDESC:Arrangement for GeoForum
REFRESH-INTERVAL;VALUE=DURATION:PT1H
X-Robots-Tag:noindex
X-PUBLISHED-TTL:PT1H
BEGIN:VTIMEZONE
TZID:Europe/Oslo
BEGIN:DAYLIGHT
TZOFFSETFROM:+0100
TZOFFSETTO:+0200
TZNAME:CEST
DTSTART:20160327T010000
END:DAYLIGHT
BEGIN:STANDARD
TZOFFSETFROM:+0200
TZOFFSETTO:+0100
TZNAME:CET
DTSTART:20161030T010000
END:STANDARD
END:VTIMEZONE
BEGIN:VEVENT
DTSTART;TZID=Europe/Oslo:20161109T080000
DTEND;TZID=Europe/Oslo:20161110T150000
DTSTAMP:20260424T133814
CREATED:20160829T104354Z
LAST-MODIFIED:20160829T104530Z
UID:10011172-1478678400-1478790000@geoforum.no
SUMMARY:Gemini Brukerkonferanse
DESCRIPTION:Powel har igjen gleden av å invitere våre kunder til vår årlige brukerkonferanse. Årets arrangement avholdes på Clarion Hotel & Congress i Trondheim. \nAlle våre forretningsområder er samlet i år\, og vi byr på et bredt program for Entreprenører\, Konsulenter og Byggherrer. Veg-\, VA- og tunnel prosjektering\, modellering og nyheter er noe av det som står på programmet. I tillegg til Powel Constructions egne ansatte har vi også mange spennende gjesteforelesere som snakker om sine praktiske erfaringer med Gemini-løsningene.  \nTingenes internett\, automatisering av arbeidsprosesser\, avanserte analysemuligheter og skydrift er noen av temaene som blir dekket på konferansen. \nArrangementsside: http://www.powel.com/no/about/nyheter/community-connected/
URL:https://geoforum.no/event/gemini-brukerkonferanse/
LOCATION:Clarion Hotel & Congress Trondheim\, Brattørkaia 1\, Trondheim 7010 Trondheim\, 7010
CATEGORIES:Eksterne kurs og konferanser
GEO:63.4338348;10.4021128
X-APPLE-STRUCTURED-LOCATION;VALUE=URI;X-ADDRESS=Clarion Hotel & Congress Trondheim Brattørkaia 1 Trondheim 7010 Trondheim 7010;X-APPLE-RADIUS=500;X-TITLE=Brattørkaia 1:geo:10.4021128,63.4338348
END:VEVENT
BEGIN:VEVENT
DTSTART;TZID=Europe/Oslo:20161110T090000
DTEND;TZID=Europe/Oslo:20161111T150000
DTSTAMP:20260424T133814
CREATED:20160419T080349Z
LAST-MODIFIED:20160419T081938Z
UID:10011149-1478768400-1478876400@geoforum.no
SUMMARY:GISLINE brukermøte Tromsø
DESCRIPTION:Norkart arrangerer brukermøte 5 ulike steder i Norge. \nMer informasjon finner du her
URL:https://geoforum.no/event/gisline-brukermote-tromso/
LOCATION:Clarion Hotel The Edge Tromsø\, Kaigata 6\, Tromsø\, 9008
CATEGORIES:Eksterne kurs og konferanser
GEO:69.6476289;18.9589293
X-APPLE-STRUCTURED-LOCATION;VALUE=URI;X-ADDRESS=Clarion Hotel The Edge Tromsø Kaigata 6 Tromsø 9008;X-APPLE-RADIUS=500;X-TITLE=Kaigata 6:geo:18.9589293,69.6476289
END:VEVENT
END:VCALENDAR