BEGIN:VCALENDAR
VERSION:2.0
PRODID:-//GeoForum - ECPv6.10.0//NONSGML v1.0//EN
CALSCALE:GREGORIAN
METHOD:PUBLISH
X-ORIGINAL-URL:https://geoforum.no
X-WR-CALDESC:Arrangement for GeoForum
REFRESH-INTERVAL;VALUE=DURATION:PT1H
X-Robots-Tag:noindex
X-PUBLISHED-TTL:PT1H
BEGIN:VTIMEZONE
TZID:Europe/Oslo
BEGIN:DAYLIGHT
TZOFFSETFROM:+0100
TZOFFSETTO:+0200
TZNAME:CEST
DTSTART:20160327T010000
END:DAYLIGHT
BEGIN:STANDARD
TZOFFSETFROM:+0200
TZOFFSETTO:+0100
TZNAME:CET
DTSTART:20161030T010000
END:STANDARD
END:VTIMEZONE
BEGIN:VEVENT
DTSTART;TZID=Europe/Oslo:20161102T090000
DTEND;TZID=Europe/Oslo:20161103T150000
DTSTAMP:20260424T133819
CREATED:20160824T163526Z
LAST-MODIFIED:20160824T163526Z
UID:10011167-1478077200-1478185200@geoforum.no
SUMMARY:Teknologiforum 2016
DESCRIPTION:Kartverket arrangerer Teknologiforum 2016. \nForeløpig program er lagt ut her
URL:https://geoforum.no/event/teknologiforum-2016/
LOCATION:Clarion Hotel Oslo Airport\, Hans Gaarders vei 15\, Gardermoen\, Skedsmo\, 2060\, Norge
CATEGORIES:Eksterne kurs og konferanser
GEO:60.1975501;11.1004153
X-APPLE-STRUCTURED-LOCATION;VALUE=URI;X-ADDRESS=Clarion Hotel Oslo Airport Hans Gaarders vei 15 Gardermoen Skedsmo 2060 Norge;X-APPLE-RADIUS=500;X-TITLE=Hans Gaarders vei 15:geo:11.1004153,60.1975501
END:VEVENT
BEGIN:VEVENT
DTSTART;TZID=Europe/Oslo:20161102T100000
DTEND;TZID=Europe/Oslo:20161102T140000
DTSTAMP:20260424T133819
CREATED:20160901T150554Z
LAST-MODIFIED:20160901T150554Z
UID:10011177-1478080800-1478095200@geoforum.no
SUMMARY:Trimble Express 2016\, Trondheim
DESCRIPTION:Norgeodesi AS inviterer til Trimble Express 2016. \nLes mer
URL:https://geoforum.no/event/trimble-express-2016-trondheim/
LOCATION:Norgeodesi AS avdeling Trondheim
CATEGORIES:Eksterne kurs og konferanser
END:VEVENT
END:VCALENDAR