BEGIN:VCALENDAR
VERSION:2.0
PRODID:-//GeoForum - ECPv6.10.0//NONSGML v1.0//EN
CALSCALE:GREGORIAN
METHOD:PUBLISH
X-WR-CALNAME:GeoForum
X-ORIGINAL-URL:https://geoforum.no
X-WR-CALDESC:Arrangement for GeoForum
REFRESH-INTERVAL;VALUE=DURATION:PT1H
X-Robots-Tag:noindex
X-PUBLISHED-TTL:PT1H
BEGIN:VTIMEZONE
TZID:Europe/Oslo
BEGIN:DAYLIGHT
TZOFFSETFROM:+0100
TZOFFSETTO:+0200
TZNAME:CEST
DTSTART:20160327T010000
END:DAYLIGHT
BEGIN:STANDARD
TZOFFSETFROM:+0200
TZOFFSETTO:+0100
TZNAME:CET
DTSTART:20161030T010000
END:STANDARD
END:VTIMEZONE
BEGIN:VEVENT
DTSTART;TZID=Europe/Oslo:20161017T080000
DTEND;TZID=Europe/Oslo:20161018T150000
DTSTAMP:20260424T145609
CREATED:20160624T103410Z
LAST-MODIFIED:20160930T082031Z
UID:10011158-1476691200-1476802800@geoforum.no
SUMMARY:Eiendomskonferansen 2016
DESCRIPTION:GeoForum Hordaland i samarbeid med Jordskifteretten\, Kartverket\, Statens veg-vesen og Høgskolen i Bergen ønsker velkommen til den årlige EIENDOMS-KONFERANSEN. \n  \ngeoforum_hordland_eiendomskonferansen_2016 \nPåmelding
URL:https://geoforum.no/event/eiendomskonferansen-2016/
LOCATION:Solstrand Hotel & Bad\, Solstrandveien 200\, Os\, 5201
CATEGORIES:Lokale geomatikkdager
GEO:60.1890693;5.4876245
X-APPLE-STRUCTURED-LOCATION;VALUE=URI;X-ADDRESS=Solstrand Hotel & Bad Solstrandveien 200 Os 5201;X-APPLE-RADIUS=500;X-TITLE=Solstrandveien 200:geo:5.4876245,60.1890693
END:VEVENT
END:VCALENDAR