BEGIN:VCALENDAR
VERSION:2.0
PRODID:-//GeoForum - ECPv6.10.0//NONSGML v1.0//EN
CALSCALE:GREGORIAN
METHOD:PUBLISH
X-ORIGINAL-URL:https://geoforum.no
X-WR-CALDESC:Arrangement for GeoForum
REFRESH-INTERVAL;VALUE=DURATION:PT1H
X-Robots-Tag:noindex
X-PUBLISHED-TTL:PT1H
BEGIN:VTIMEZONE
TZID:Europe/Oslo
BEGIN:DAYLIGHT
TZOFFSETFROM:+0100
TZOFFSETTO:+0200
TZNAME:CEST
DTSTART:20160327T010000
END:DAYLIGHT
BEGIN:STANDARD
TZOFFSETFROM:+0200
TZOFFSETTO:+0100
TZNAME:CET
DTSTART:20161030T010000
END:STANDARD
END:VTIMEZONE
BEGIN:VEVENT
DTSTART;TZID=Europe/Oslo:20160915T090000
DTEND;TZID=Europe/Oslo:20160915T153000
DTSTAMP:20260424T161217
CREATED:20160825T114257Z
LAST-MODIFIED:20160825T151756Z
UID:10011168-1473930000-1473953400@geoforum.no
SUMMARY:Høringsseminar - organisering av eiendomsoppmåling
DESCRIPTION:GeoForum arrangerer høringsseminar om utredning av eiendomsoppmåling. Målet med seminaret er å få belyst ulike synspunkt. \nProgram  \nPåmeldingsskjema
URL:https://geoforum.no/event/horingsseminar-organisering-av-eiendomsoppmaling/
LOCATION:Clarion Hotel Oslo Airport\, Hans Gaarders vei 15\, Gardermoen\, Skedsmo\, 2060\, Norge
CATEGORIES:Kurs
GEO:60.1975501;11.1004153
X-APPLE-STRUCTURED-LOCATION;VALUE=URI;X-ADDRESS=Clarion Hotel Oslo Airport Hans Gaarders vei 15 Gardermoen Skedsmo 2060 Norge;X-APPLE-RADIUS=500;X-TITLE=Hans Gaarders vei 15:geo:11.1004153,60.1975501
END:VEVENT
BEGIN:VEVENT
DTSTART;TZID=Europe/Oslo:20160915T090000
DTEND;TZID=Europe/Oslo:20160916T150000
DTSTAMP:20260424T161217
CREATED:20160812T073516Z
LAST-MODIFIED:20160812T073700Z
UID:10011163-1473930000-1474038000@geoforum.no
SUMMARY:TerraNor arrangerer brukermøte for brukere av fjernmålte data
DESCRIPTION:For mer informasjon kontakt Nils Erik Jørgensen Terra NOR \nNils Erik Jørgensen <nejorgensen@terranor.no>
URL:https://geoforum.no/event/terranor-arrangerer-brukermote-for-brukere-av-fjernmalte-data/
LOCATION:Norsk Romsenter\, Drammensveien 165\, Oslo\, 0277
CATEGORIES:Eksterne kurs og konferanser
GEO:59.9216659;10.6749498
X-APPLE-STRUCTURED-LOCATION;VALUE=URI;X-ADDRESS=Norsk Romsenter Drammensveien 165 Oslo 0277;X-APPLE-RADIUS=500;X-TITLE=Drammensveien 165:geo:10.6749498,59.9216659
END:VEVENT
END:VCALENDAR