BEGIN:VCALENDAR
VERSION:2.0
PRODID:-//GeoForum - ECPv6.10.0//NONSGML v1.0//EN
CALSCALE:GREGORIAN
METHOD:PUBLISH
X-ORIGINAL-URL:https://geoforum.no
X-WR-CALDESC:Arrangement for GeoForum
REFRESH-INTERVAL;VALUE=DURATION:PT1H
X-Robots-Tag:noindex
X-PUBLISHED-TTL:PT1H
BEGIN:VTIMEZONE
TZID:Europe/Oslo
BEGIN:DAYLIGHT
TZOFFSETFROM:+0100
TZOFFSETTO:+0200
TZNAME:CEST
DTSTART:20160327T010000
END:DAYLIGHT
BEGIN:STANDARD
TZOFFSETFROM:+0200
TZOFFSETTO:+0100
TZNAME:CET
DTSTART:20161030T010000
END:STANDARD
END:VTIMEZONE
BEGIN:VEVENT
DTSTART;TZID=Europe/Oslo:20160519T093000
DTEND;TZID=Europe/Oslo:20160519T154500
DTSTAMP:20260424T222937
CREATED:20160418T091054Z
LAST-MODIFIED:20160512T120339Z
UID:10011144-1463650200-1463672700@geoforum.no
SUMMARY:Seminar om organisering av eiendomsoppmåling
DESCRIPTION:GeoForum arrangerer seminar om eiendomsoppmåling herunder autorisasjons- og sertifiseringsordning. \nProgram \nPåmelding
URL:https://geoforum.no/event/seminar-om-organisering-av-eiendomsoppmaling/
CATEGORIES:Seminar
ORGANIZER;CN="GeoForum":MAILTO:sverre@geoforum.no
END:VEVENT
END:VCALENDAR