BEGIN:VCALENDAR
VERSION:2.0
PRODID:-//GeoForum - ECPv6.10.0//NONSGML v1.0//EN
CALSCALE:GREGORIAN
METHOD:PUBLISH
X-ORIGINAL-URL:https://geoforum.no
X-WR-CALDESC:Arrangement for GeoForum
REFRESH-INTERVAL;VALUE=DURATION:PT1H
X-Robots-Tag:noindex
X-PUBLISHED-TTL:PT1H
BEGIN:VTIMEZONE
TZID:Europe/Oslo
BEGIN:DAYLIGHT
TZOFFSETFROM:+0100
TZOFFSETTO:+0200
TZNAME:CEST
DTSTART:20160327T010000
END:DAYLIGHT
BEGIN:STANDARD
TZOFFSETFROM:+0200
TZOFFSETTO:+0100
TZNAME:CET
DTSTART:20161030T010000
END:STANDARD
END:VTIMEZONE
BEGIN:VEVENT
DTSTART;TZID=Europe/Oslo:20160511T090000
DTEND;TZID=Europe/Oslo:20160511T160000
DTSTAMP:20260424T222936
CREATED:20160420T085312Z
LAST-MODIFIED:20160420T085312Z
UID:10011152-1462957200-1462982400@geoforum.no
SUMMARY:FME World Tour - Oslo
DESCRIPTION:11. juni arrangerer Norkart og Geodata FME World Tour 2016 i Oslo. \nHold av datoen 11.mai 2016 og dagene før og etter til FME World Tour 2016. Mer informasjon kommer – siste oppdatering fra Safe Software finner du her: http://www.safe.com/worldtour/ \nKursdager: \nMandag 9.mai: \n\nFME Desktop grunnkurs\, i Geodata sine lokaler – Detaljert info og påmelding\nFME Server kurs\, i Norkart sine lokaler – Detaljert info og påmelding\n\nTirsdag 10.mai: \n\nFME Desktop grunnkurs\, i Geodata sine lokaler – Detaljert info og påmelding\nFME Workshop\, i Norkart sine lokaler – Detaljert info og påmelding\n\nAngående pris minner vi om følgende pakker ifm FME World Tour 2016: \nKun konferansedag: 2000\,- For deltager fra samme organisasjon nr 5+ = 50% rabatt. \nPåmelding til FME World Tour
URL:https://geoforum.no/event/fme-world-tour-oslo/
LOCATION:Kino Victoria Oslo\, Ruseløkkveien 14\,\, 0251
GEO:59.9135151;10.7282461
X-APPLE-STRUCTURED-LOCATION;VALUE=URI;X-ADDRESS=Kino Victoria Oslo Ruseløkkveien 14 0251;X-APPLE-RADIUS=500;X-TITLE=Ruseløkkveien 14\,:geo:10.7282461,59.9135151
END:VEVENT
END:VCALENDAR