BEGIN:VCALENDAR
VERSION:2.0
PRODID:-//GeoForum - ECPv6.10.0//NONSGML v1.0//EN
CALSCALE:GREGORIAN
METHOD:PUBLISH
X-ORIGINAL-URL:https://geoforum.no
X-WR-CALDESC:Arrangement for GeoForum
REFRESH-INTERVAL;VALUE=DURATION:PT1H
X-Robots-Tag:noindex
X-PUBLISHED-TTL:PT1H
BEGIN:VTIMEZONE
TZID:Europe/Oslo
BEGIN:DAYLIGHT
TZOFFSETFROM:+0100
TZOFFSETTO:+0200
TZNAME:CEST
DTSTART:20160327T010000
END:DAYLIGHT
BEGIN:STANDARD
TZOFFSETFROM:+0200
TZOFFSETTO:+0100
TZNAME:CET
DTSTART:20161030T010000
END:STANDARD
END:VTIMEZONE
BEGIN:VEVENT
DTSTART;TZID=Europe/Oslo:20160217T090000
DTEND;TZID=Europe/Oslo:20160218T160000
DTSTAMP:20260425T004624
CREATED:20150522T122009Z
LAST-MODIFIED:20160223T093824Z
UID:10005858-1455699600-1455811200@geoforum.no
SUMMARY:GeoNordland 2016
DESCRIPTION:“GeoNordland 2016” – lokale Geomatikkdager i Nordland \n17. februar 2016 kl. 09:00 – 18. februar 2016 kl. 16:00 \nGeoNordland 2016 ble arrangert på Havet hotell i Bodø\, 17. og 18. februar 2016. \nGeoForum Nordland fyller 40år i 2016 og det skal vi feire med faglig påfyll\, sosialt samvær og overraskelser.  Hver 10. påmeldte deltaker kan vente seg en liten premie. \nProgram og invitasjon GeoNordland 2016 \nForedrag \n 
URL:https://geoforum.no/event/geonordland-2016/
LOCATION:Havet hotell\, Tollbugata 5\, Bodø\, 8006
CATEGORIES:Lokale geomatikkdager
GEO:67.2839843;14.3749054
X-APPLE-STRUCTURED-LOCATION;VALUE=URI;X-ADDRESS=Havet hotell Tollbugata 5 Bodø 8006;X-APPLE-RADIUS=500;X-TITLE=Tollbugata 5:geo:14.3749054,67.2839843
END:VEVENT
END:VCALENDAR