BEGIN:VCALENDAR
VERSION:2.0
PRODID:-//GeoForum - ECPv6.10.0//NONSGML v1.0//EN
CALSCALE:GREGORIAN
METHOD:PUBLISH
X-WR-CALNAME:GeoForum
X-ORIGINAL-URL:https://geoforum.no
X-WR-CALDESC:Arrangement for GeoForum
REFRESH-INTERVAL;VALUE=DURATION:PT1H
X-Robots-Tag:noindex
X-PUBLISHED-TTL:PT1H
BEGIN:VTIMEZONE
TZID:Europe/Oslo
BEGIN:DAYLIGHT
TZOFFSETFROM:+0100
TZOFFSETTO:+0200
TZNAME:CEST
DTSTART:20160327T010000
END:DAYLIGHT
BEGIN:STANDARD
TZOFFSETFROM:+0200
TZOFFSETTO:+0100
TZNAME:CET
DTSTART:20161030T010000
END:STANDARD
END:VTIMEZONE
BEGIN:VEVENT
DTSTART;TZID=Europe/Oslo:20160201T090000
DTEND;TZID=Europe/Oslo:20160202T130000
DTSTAMP:20260425T004352
CREATED:20150706T084122Z
LAST-MODIFIED:20160130T162254Z
UID:10011111-1454317200-1454418000@geoforum.no
SUMMARY:Stikningskonferansen 2016
DESCRIPTION:Endelig er programmet for Stikningskonferansen 2016 klart! \nProgram Stikningskonferansen til deltakere \nPåmelding  \n  \n  \n  \n  \n 
URL:https://geoforum.no/event/stikningskonferansen-2016/
LOCATION:Clarion Hotel Oslo Airport\, Hans Gaarders vei 15\, Gardermoen\, Skedsmo\, 2060\, Norge
CATEGORIES:Konferanse
GEO:60.1975501;11.1004153
X-APPLE-STRUCTURED-LOCATION;VALUE=URI;X-ADDRESS=Clarion Hotel Oslo Airport Hans Gaarders vei 15 Gardermoen Skedsmo 2060 Norge;X-APPLE-RADIUS=500;X-TITLE=Hans Gaarders vei 15:geo:11.1004153,60.1975501
END:VEVENT
END:VCALENDAR