BEGIN:VCALENDAR
VERSION:2.0
PRODID:-//GeoForum - ECPv6.10.0//NONSGML v1.0//EN
CALSCALE:GREGORIAN
METHOD:PUBLISH
X-WR-CALNAME:GeoForum
X-ORIGINAL-URL:https://geoforum.no
X-WR-CALDESC:Arrangement for GeoForum
REFRESH-INTERVAL;VALUE=DURATION:PT1H
X-Robots-Tag:noindex
X-PUBLISHED-TTL:PT1H
BEGIN:VTIMEZONE
TZID:Europe/Oslo
BEGIN:DAYLIGHT
TZOFFSETFROM:+0100
TZOFFSETTO:+0200
TZNAME:CEST
DTSTART:20160327T010000
END:DAYLIGHT
BEGIN:STANDARD
TZOFFSETFROM:+0200
TZOFFSETTO:+0100
TZNAME:CET
DTSTART:20161030T010000
END:STANDARD
END:VTIMEZONE
BEGIN:VEVENT
DTSTART;TZID=Europe/Oslo:20160118T090000
DTEND;TZID=Europe/Oslo:20160119T150000
DTSTAMP:20260425T020720
CREATED:20150612T064703Z
LAST-MODIFIED:20160119T221703Z
UID:10011106-1453107600-1453215600@geoforum.no
SUMMARY:Lokale geomatikkdager for Buskerud\, Oslo og Akershus 2016
DESCRIPTION:Lokale Geomatikkdager er årlige arrangement i regi av GeoForums fylkesavdelinger. De siste årene har Buskerud og Oslo/Akershus gått sammen om å arrangere lokale Geomatikkdager på Norefjell\, og basert på tilbakemeldinger fra deltakere vil vi fortsette denne tradisjonen også i 2016. \nProgram \nForedrag – presentasjoner \nBilder fra konferansen \nSiri O. Waage\, Statens kartverk Oslo\, Siri.Oestreich.Waage@kartverket.no\, 32 11 85 09
URL:https://geoforum.no/event/lokale-geomatikkdager-for-buskerud-oslo-og-akershus/
LOCATION:Norefjell Ski og Spa\,  Bøeseter\, 3536
CATEGORIES:Lokale geomatikkdager
ATTACH;FMTTYPE=image/jpeg:https://geoforum.no/wp-content/uploads/2015/06/norefjell.jpg
END:VEVENT
BEGIN:VEVENT
DTSTART;TZID=Europe/Oslo:20160119T090000
DTEND;TZID=Europe/Oslo:20160120T130000
DTSTAMP:20260425T020720
CREATED:20150630T111632Z
LAST-MODIFIED:20160115T105726Z
UID:10011108-1453194000-1453294800@geoforum.no
SUMMARY:X\, Y og Z 2016
DESCRIPTION:Etter årets suksess i Bergen gleder vi oss til å arrangere X\, Y og Z i Oslo i 2016. Konferansen arrangeres på Scandic Fornebu\, et nytt og flott hotell som vil glede både deltakere og utstillere! \n  \nProgram X\, Y og Z 2016 \nPåmelding
URL:https://geoforum.no/event/x-y-og-z-2016/
LOCATION:Scandic Hotel Fornebu\, Martin Lingesvei 2 \, Forebu\, 1384
CATEGORIES:Konferanse
GEO:59.8972309;10.6323839
X-APPLE-STRUCTURED-LOCATION;VALUE=URI;X-ADDRESS=Scandic Hotel Fornebu Martin Lingesvei 2  Forebu 1384;X-APPLE-RADIUS=500;X-TITLE=Martin Lingesvei 2:geo:10.6323839,59.8972309
END:VEVENT
END:VCALENDAR