BEGIN:VCALENDAR
VERSION:2.0
PRODID:-//GeoForum - ECPv6.10.0//NONSGML v1.0//EN
CALSCALE:GREGORIAN
METHOD:PUBLISH
X-WR-CALNAME:GeoForum
X-ORIGINAL-URL:https://geoforum.no
X-WR-CALDESC:Arrangement for GeoForum
REFRESH-INTERVAL;VALUE=DURATION:PT1H
X-Robots-Tag:noindex
X-PUBLISHED-TTL:PT1H
BEGIN:VTIMEZONE
TZID:Europe/Oslo
BEGIN:DAYLIGHT
TZOFFSETFROM:+0100
TZOFFSETTO:+0200
TZNAME:CEST
DTSTART:20150329T010000
END:DAYLIGHT
BEGIN:STANDARD
TZOFFSETFROM:+0200
TZOFFSETTO:+0100
TZNAME:CET
DTSTART:20151025T010000
END:STANDARD
END:VTIMEZONE
BEGIN:VEVENT
DTSTART;TZID=Europe/Oslo:20151215T090000
DTEND;TZID=Europe/Oslo:20151215T093000
DTSTAMP:20260425T032301
CREATED:20151109T140340Z
LAST-MODIFIED:20151109T140341Z
UID:10011065-1450170000-1450171800@geoforum.no
SUMMARY:WEBINAR - NYHETER I GEMINI OPPMÅLING
DESCRIPTION:Få med deg hva som er nytt i neste servicerelease av Gemini Oppmåling! \nREGISTRERING:\nhttps://attendee.gotowebinar.com/register/6189464683924368641 \nEtter registrering vil du få en epost med informasjon og lenke til webinar.\nTIDSPUNKT:\nTirsdag 15. desember 09:00 – 09:30
URL:https://geoforum.no/event/webinar-nyheter-i-gemini-oppmaling/
CATEGORIES:Eksterne kurs og konferanser
END:VEVENT
END:VCALENDAR