BEGIN:VCALENDAR
VERSION:2.0
PRODID:-//GeoForum - ECPv6.10.0//NONSGML v1.0//EN
CALSCALE:GREGORIAN
METHOD:PUBLISH
X-WR-CALNAME:GeoForum
X-ORIGINAL-URL:https://geoforum.no
X-WR-CALDESC:Arrangement for GeoForum
REFRESH-INTERVAL;VALUE=DURATION:PT1H
X-Robots-Tag:noindex
X-PUBLISHED-TTL:PT1H
BEGIN:VTIMEZONE
TZID:Europe/Oslo
BEGIN:DAYLIGHT
TZOFFSETFROM:+0100
TZOFFSETTO:+0200
TZNAME:CEST
DTSTART:20150329T010000
END:DAYLIGHT
BEGIN:STANDARD
TZOFFSETFROM:+0200
TZOFFSETTO:+0100
TZNAME:CET
DTSTART:20151025T010000
END:STANDARD
END:VTIMEZONE
BEGIN:VEVENT
DTSTART;TZID=Europe/Oslo:20151028T093000
DTEND;TZID=Europe/Oslo:20151030T150000
DTSTAMP:20260425T045124
CREATED:20150609T194021Z
LAST-MODIFIED:20150609T194340Z
UID:10005860-1446024600-1446217200@geoforum.no
SUMMARY:GISLINE Brukermøte 2015
DESCRIPTION:GISLINE Brukermøte 2015 arrangeres  i år 28.-30. oktober på Hotell Expo Fornebu i Oslo.\nHer vil du møte flere hundre brukere innen ditt fagfelt\, og du vil få en miks av faglig påfyll\, teknologi og sosialt samvær med god underholdning.  Vi forsetter suksessen med en egen kursdag på onsdagen. \nMer informasjon og foreløpig program vil bli annonsert før sommerferien her \n 
URL:https://geoforum.no/event/gisline-brukermote-2015/
CATEGORIES:Eksterne kurs og konferanser
ATTACH;FMTTYPE=image/jpeg:https://geoforum.no/wp-content/uploads/2015/06/main_expo_jpg.jpg
END:VEVENT
END:VCALENDAR