BEGIN:VCALENDAR
VERSION:2.0
PRODID:-//GeoForum - ECPv6.10.0//NONSGML v1.0//EN
CALSCALE:GREGORIAN
METHOD:PUBLISH
X-WR-CALNAME:GeoForum
X-ORIGINAL-URL:https://geoforum.no
X-WR-CALDESC:Arrangement for GeoForum
REFRESH-INTERVAL;VALUE=DURATION:PT1H
X-Robots-Tag:noindex
X-PUBLISHED-TTL:PT1H
BEGIN:VTIMEZONE
TZID:Europe/Oslo
BEGIN:DAYLIGHT
TZOFFSETFROM:+0100
TZOFFSETTO:+0200
TZNAME:CEST
DTSTART:20150329T010000
END:DAYLIGHT
BEGIN:STANDARD
TZOFFSETFROM:+0200
TZOFFSETTO:+0100
TZNAME:CET
DTSTART:20151025T010000
END:STANDARD
END:VTIMEZONE
BEGIN:VEVENT
DTSTART;TZID=Europe/Oslo:20151023T090000
DTEND;TZID=Europe/Oslo:20151023T093000
DTSTAMP:20260425T061320
CREATED:20151021T092353Z
LAST-MODIFIED:20151021T092353Z
UID:10011124-1445590800-1445592600@geoforum.no
SUMMARY:Gratis webinar Open Source/FME
DESCRIPTION:Norkart tilbyr gratis webinarer hver fredag fra 09-09.30. Deltar du på webinarer kan du får svar på dine spørsmål fra Norkarts FME og Open Source-eksperter! \nFME Workspace / kildekode\, eksempeldata og videoopptak samt en oppsummering vil bli delt med alle som har meldt seg på webinaret\, i etterkant av møtet. \nLes mer og meld deg på webinarer her \n  \nMulig innhold relatert til FME: \nSend inn dine caser og hva DU har mest nytte av å få mer informasjon om allerede nå ved å melde deg på nedenfor \nInnhold: \n\nIntro til ett tema (f.eks. SOSI\, 3D\, BIM\, Laser +++)\nGjennomgang av case fra brukere og delvise løsninger på disse.\n\nEksempel på tema: \n\nNyttige tips og triks for avanserte brukere?\nHvordan generere en terrengmodell fra laserdata?\nHvordan laste inn en WMS i FME?\nHvordan lese inn SOSI på en god måte med FME?\nHvordan skrive SOSI på en god måte med FME?\nHvordan sette opp en nedlastingsportal basert på FME Cloud / Server?\nHvordan validere data før skriving til en database?\nHvordan generere en PDF-rapport med kart og noe data?\n\nMulig innhold relatert til Open Source: \nSend inn dine caser og hva DU har mest nytte av å få mer informasjon om allerede nå ved å melde deg på nedenfor \n\nQGIS\nCartoDB\nMapbox\nGeoserver\nPostGIS\nLeaflet\nOpenlayers\nÅpne data\nTips og triks og arbeidsflyt\nHvordan få data inn og ut av klientene.
URL:https://geoforum.no/event/gratis-webinar-open-sourcefme/2015-10-23/
CATEGORIES:Eksterne kurs og konferanser
END:VEVENT
END:VCALENDAR