BEGIN:VCALENDAR
VERSION:2.0
PRODID:-//GeoForum - ECPv6.10.0//NONSGML v1.0//EN
CALSCALE:GREGORIAN
METHOD:PUBLISH
X-WR-CALNAME:GeoForum
X-ORIGINAL-URL:https://geoforum.no
X-WR-CALDESC:Arrangement for GeoForum
REFRESH-INTERVAL;VALUE=DURATION:PT1H
X-Robots-Tag:noindex
X-PUBLISHED-TTL:PT1H
BEGIN:VTIMEZONE
TZID:Europe/Oslo
BEGIN:DAYLIGHT
TZOFFSETFROM:+0100
TZOFFSETTO:+0200
TZNAME:CEST
DTSTART:20150329T010000
END:DAYLIGHT
BEGIN:STANDARD
TZOFFSETFROM:+0200
TZOFFSETTO:+0100
TZNAME:CET
DTSTART:20151025T010000
END:STANDARD
END:VTIMEZONE
BEGIN:VEVENT
DTSTART;TZID=Europe/Oslo:20150930T090000
DTEND;TZID=Europe/Oslo:20150930T150000
DTSTAMP:20260425T060816
CREATED:20150820T070438Z
LAST-MODIFIED:20150910T132452Z
UID:10011117-1443603600-1443625200@geoforum.no
SUMMARY:Temadag eiendom GeoForum Rogaland
DESCRIPTION:GeoForum Rogaland inviterer til temadag eiendom/matrikkel \nTemaene er forenkling i byggesaksforskriften\, selvkostberegning\, tinglysing og ervervsprosess for kirkegrunn. \nProgram temadag eiendom 2015 \nPåmelding
URL:https://geoforum.no/event/temadag-eiendom-geoforum-rogaland/
LOCATION:Sandnes\, Jærveien 33
GEO:58.8479149;5.7288478
X-APPLE-STRUCTURED-LOCATION;VALUE=URI;X-ADDRESS=Sandnes Jærveien 33;X-APPLE-RADIUS=500;X-TITLE=Jærveien 33:geo:5.7288478,58.8479149
END:VEVENT
END:VCALENDAR