BEGIN:VCALENDAR
VERSION:2.0
PRODID:-//GeoForum - ECPv6.10.0//NONSGML v1.0//EN
CALSCALE:GREGORIAN
METHOD:PUBLISH
X-WR-CALNAME:GeoForum
X-ORIGINAL-URL:https://geoforum.no
X-WR-CALDESC:Arrangement for GeoForum
REFRESH-INTERVAL;VALUE=DURATION:PT1H
X-Robots-Tag:noindex
X-PUBLISHED-TTL:PT1H
BEGIN:VTIMEZONE
TZID:Europe/Oslo
BEGIN:DAYLIGHT
TZOFFSETFROM:+0100
TZOFFSETTO:+0200
TZNAME:CEST
DTSTART:20150329T010000
END:DAYLIGHT
BEGIN:STANDARD
TZOFFSETFROM:+0200
TZOFFSETTO:+0100
TZNAME:CET
DTSTART:20151025T010000
END:STANDARD
END:VTIMEZONE
BEGIN:VEVENT
DTSTART;TZID=Europe/Oslo:20150226T091500
DTEND;TZID=Europe/Oslo:20150226T150000
DTSTAMP:20260425T151936
CREATED:20141218T110959Z
LAST-MODIFIED:20141219T072728Z
UID:10011099-1424942100-1424962800@geoforum.no
SUMMARY:Temadag deling av eiendom
DESCRIPTION:GeoForum Rogaland inviterer til temadag – deling av eiendom\, som avholdes i auditoriet hos Vegvesenet  i Stavanger. \nMålgruppen for konferansen er de som arbeider som saksbehandlere i delingssaker og de som gjennomfører oppmålingsforretningen \n  \nTemadag deling av eiendom \nPåmeldingsskjema
URL:https://geoforum.no/event/temadag-deling-av-eiendom/
LOCATION:Statens vegvesen\, Lagårdsveien 80\, Stavanger\, 4010
CATEGORIES:Temadag lokalt
GEO:58.9574234;5.740779
X-APPLE-STRUCTURED-LOCATION;VALUE=URI;X-ADDRESS=Statens vegvesen Lagårdsveien 80 Stavanger 4010;X-APPLE-RADIUS=500;X-TITLE=Lagårdsveien 80:geo:5.740779,58.9574234
END:VEVENT
END:VCALENDAR