BEGIN:VCALENDAR
VERSION:2.0
PRODID:-//GeoForum - ECPv6.10.0//NONSGML v1.0//EN
CALSCALE:GREGORIAN
METHOD:PUBLISH
X-ORIGINAL-URL:https://geoforum.no
X-WR-CALDESC:Arrangement for GeoForum
REFRESH-INTERVAL;VALUE=DURATION:PT1H
X-Robots-Tag:noindex
X-PUBLISHED-TTL:PT1H
BEGIN:VTIMEZONE
TZID:Europe/Oslo
BEGIN:DAYLIGHT
TZOFFSETFROM:+0100
TZOFFSETTO:+0200
TZNAME:CEST
DTSTART:20140330T010000
END:DAYLIGHT
BEGIN:STANDARD
TZOFFSETFROM:+0200
TZOFFSETTO:+0100
TZNAME:CET
DTSTART:20141026T010000
END:STANDARD
END:VTIMEZONE
BEGIN:VEVENT
DTSTART;TZID=Europe/Oslo:20141210T093000
DTEND;TZID=Europe/Oslo:20141210T153000
DTSTAMP:20260425T192034
CREATED:20140918T210513Z
LAST-MODIFIED:20141107T081544Z
UID:10011086-1418203800-1418225400@geoforum.no
SUMMARY:GeoKlar - Nasjonal beredskapskonferanse
DESCRIPTION:GeoForum og Kartverket skal arrangere en konferanse en beredskapskonferanse med utgangspunkt i geografiske data. Kart og geodata er et viktig informasjonsgrunnlag for nasjonale nødetater og beredskapsorganisasjoner\, og gode kart over sjø og land er avgjørende for enhver kriseplanlegging og – håndtering. Konferansen skal synliggjøre hvilke data som er tilgjengelig i dag\, og vise hvordan et felles kartgrunnlag kan skape bedre samhandling mellom aktørene i en beredskapssituasjon. \nProgram \nPåmelding
URL:https://geoforum.no/event/geoklar-nasjonal-beredskapskonferanse/
LOCATION:Sundvolden hotell\, Dronningveien 2\, Krokkleiva\, 3531
CATEGORIES:Konferanse
ORGANIZER;CN="GeoForum":MAILTO:marianne@geoforum.no
GEO:60.0620401;10.3104302
X-APPLE-STRUCTURED-LOCATION;VALUE=URI;X-ADDRESS=Sundvolden hotell Dronningveien 2 Krokkleiva 3531;X-APPLE-RADIUS=500;X-TITLE=Dronningveien 2:geo:10.3104302,60.0620401
END:VEVENT
END:VCALENDAR