BEGIN:VCALENDAR
VERSION:2.0
PRODID:-//GeoForum - ECPv6.10.0//NONSGML v1.0//EN
CALSCALE:GREGORIAN
METHOD:PUBLISH
X-ORIGINAL-URL:https://geoforum.no
X-WR-CALDESC:Arrangement for GeoForum
REFRESH-INTERVAL;VALUE=DURATION:PT1H
X-Robots-Tag:noindex
X-PUBLISHED-TTL:PT1H
BEGIN:VTIMEZONE
TZID:Europe/Oslo
BEGIN:DAYLIGHT
TZOFFSETFROM:+0100
TZOFFSETTO:+0200
TZNAME:CEST
DTSTART:20140330T010000
END:DAYLIGHT
BEGIN:STANDARD
TZOFFSETFROM:+0200
TZOFFSETTO:+0100
TZNAME:CET
DTSTART:20141026T010000
END:STANDARD
END:VTIMEZONE
BEGIN:VEVENT
DTSTART;TZID=Europe/Oslo:20141021T093000
DTEND;TZID=Europe/Oslo:20141022T150000
DTSTAMP:20260425T230613
CREATED:20140918T192903Z
LAST-MODIFIED:20140919T090218Z
UID:10011080-1413883800-1413990000@geoforum.no
SUMMARY:GISLine brukermøte
DESCRIPTION:Norkart arrangerer brukermøterpå Clarion Hotel & Congress i Trondheim den 21. og 22. oktober. \nMer informasjon\, program og påmelding
URL:https://geoforum.no/event/gisline-brukermote/
LOCATION:Clarion Hotel & Congress Trondheim\, Brattørkaia 1\, Trondheim 7010 Trondheim\, 7010
CATEGORIES:Eksterne kurs og konferanser
GEO:63.4338348;10.4021128
X-APPLE-STRUCTURED-LOCATION;VALUE=URI;X-ADDRESS=Clarion Hotel & Congress Trondheim Brattørkaia 1 Trondheim 7010 Trondheim 7010;X-APPLE-RADIUS=500;X-TITLE=Brattørkaia 1:geo:10.4021128,63.4338348
END:VEVENT
END:VCALENDAR