BEGIN:VCALENDAR
VERSION:2.0
PRODID:-//GeoForum - ECPv6.10.0//NONSGML v1.0//EN
CALSCALE:GREGORIAN
METHOD:PUBLISH
X-WR-CALNAME:GeoForum
X-ORIGINAL-URL:https://geoforum.no
X-WR-CALDESC:Arrangement for GeoForum
REFRESH-INTERVAL;VALUE=DURATION:PT1H
X-Robots-Tag:noindex
X-PUBLISHED-TTL:PT1H
BEGIN:VTIMEZONE
TZID:Europe/Oslo
BEGIN:DAYLIGHT
TZOFFSETFROM:+0100
TZOFFSETTO:+0200
TZNAME:CEST
DTSTART:20140330T010000
END:DAYLIGHT
BEGIN:STANDARD
TZOFFSETFROM:+0200
TZOFFSETTO:+0100
TZNAME:CET
DTSTART:20141026T010000
END:STANDARD
END:VTIMEZONE
BEGIN:VEVENT
DTSTART;TZID=Europe/Oslo:20141014T093000
DTEND;TZID=Europe/Oslo:20141015T150000
DTSTAMP:20260425T220153
CREATED:20140918T191127Z
LAST-MODIFIED:20141013T131923Z
UID:10011079-1413279000-1413385200@geoforum.no
SUMMARY:Regionale geomatikkdager for Telemark\, Vestfold og Østfold
DESCRIPTION:Samfunnet er storbruker av stedfestet informasjon. GeoForum Telemark\, Østfold og Vestfold har etablert en fellesarena for vår region.\nVia foredrag\, utstilling og mingling vil praktiske utøvere og forvaltere av stedfestet informasjon kunne bli oppdatert og få utvekslet erfaring.\nTema er blant annet nyheter om Matrikkelloven\, Eierseksjonsloven\, det offentlige kartgrunnlaget\, geosynkronisering\, 3D\, forvaltning av laserdata\, ny nasjonal høydemodell\, programvare for oppmålingsforretning\, historiske kart og vikingskip.\nPåmeldingsfrist er 19. september. \nInvitasjon \nProgram Regionale Geomatikkdager 2014 \n 
URL:https://geoforum.no/event/regionale-geomatikkdager-for-telemark-vestfold-og-ostfold/
LOCATION:Rica Park Hotel Sandefjord\, Strandpromenaden 9\, Sandefjord\, 3212
CATEGORIES:Lokale geomatikkdager
ORGANIZER;CN="GeoForum Telemark%2C Vestfold og %C3%98stfold":MAILTO:kare.conradsen@tonsberg.kommune.no
GEO:59.1273763;10.2209396
X-APPLE-STRUCTURED-LOCATION;VALUE=URI;X-ADDRESS=Rica Park Hotel Sandefjord Strandpromenaden 9 Sandefjord 3212;X-APPLE-RADIUS=500;X-TITLE=Strandpromenaden 9:geo:10.2209396,59.1273763
END:VEVENT
BEGIN:VEVENT
DTSTART;TZID=Europe/Oslo:20141015T120000
DTEND;TZID=Europe/Oslo:20141015T150000
DTSTAMP:20260425T220153
CREATED:20140926T102519Z
LAST-MODIFIED:20140926T103233Z
UID:10011092-1413374400-1413385200@geoforum.no
SUMMARY:KS KommIT inviterer til ny leverandørkonferanse\, løsninger for digital byggesaksbehandling
DESCRIPTION:KS KommIT ønsker med dette å invitere leverandører av arkivløsninger\, fagsystem og saksstøtte innenfor plan- og byggesaksområdet til en ny leverandørkonferanse. \nVi tilbyr en enkel servering i konferanseområdet ved ankomst \nTema for konferansen er KS KommITs pågående prosjekt «eByggesak». Dette prosjektet skal utvikle spesifikasjoner og underlagsdokumentasjon som kommunene selv kan utnytte i lokale anskaffelser. Dette arbeidet har nå kommet et godt stykke videre. Vi har fått et tydeligere målbilde og har en god del dokumentasjon som etter hvert vil bli tilrettelagt som ulike «verktøy» i en verktøykasse. Vi trenger tilbakemeldinger på dette arbeidet og inviterer derfor til en konferanse for å orientere om resultatene så langt og ikke minst motta innspill. \nKS KommIT har så langt inngått avtale med 7 kommuner som har til intensjon å utnytte dette arbeidet i egne anskaffelser i løpet av 2015. Målet er å pilotere nye løsninger basert på spesifikasjoner som prosjektet utvikler. \nMål for de lokale anskaffelsene\nMålet er at nye løsninger for saksbehandling innenfor plan- og byggesaksområdet skal bidra til bedre tjenester for innbyggere og næringsliv\, men også gevinster i de kommunene som tar de nye løsningene i bruk:\n– Høyere kundetilfredshet og styrking av kommunenes omdømme i byggesaksprosessen\n– Mer effektiv og etterprøvbar saksbehandling\n– En mer standardisert praktisering av lovverket som bidrar til lik behandling av like saker\n– Tilrettelegging for digitalt innsyn og dialog med søker og andre sentrale aktører i byggesaksprosessen\n– Reduksjon av manuelt arbeid og dobbeltregistrering av informasjon til et minimum\n– Redusert ressursbruk knyttet til matrikkelføring\, tiltaksbaser og rapportering til KOSTRA\n– Økt leverandøruavhengighet og digital kompetanse i kommunene \nProgram for dagen\n– Velkommen og orientering om digitaliseringsarbeidet innenfor sektoren plan\, bygg og geodata\n– Verktøykassen – gjennomgang av foreliggende målbilde for byggesaksbehandling og underlag for anskaffelser i de 7 kommunene. Innspill og dialog.\n– Informasjon om arbeidet med felles begrepsmodell\, plandata\, BIM og andre utfordringer som grenser inn mot prosjektet eByggesak. Innspill og dialog. \nKonferansen er publisert på KS Agenda sine hjemmesider\, og du kan også melde deg på der.
URL:https://geoforum.no/event/ks-kommit-inviterer-til-ny-leverandorkonferanse-losninger-for-digital-byggesaksbehandling/
LOCATION:KS Agenda\, Haakon VIIs gate 9 \, Oslo\, 0161
CATEGORIES:Eksterne kurs og konferanser
ATTACH;FMTTYPE=image/png:https://geoforum.no/wp-content/uploads/2014/09/KS.png
ORGANIZER;CN="KS KommIT":MAILTO:Michael.Pande-Rolfsen@ks.no
GEO:59.9143541;10.7308242
X-APPLE-STRUCTURED-LOCATION;VALUE=URI;X-ADDRESS=KS Agenda Haakon VIIs gate 9  Oslo 0161;X-APPLE-RADIUS=500;X-TITLE=Haakon VIIs gate 9:geo:10.7308242,59.9143541
END:VEVENT
END:VCALENDAR