BEGIN:VCALENDAR
VERSION:2.0
PRODID:-//GeoForum - ECPv6.10.0//NONSGML v1.0//EN
CALSCALE:GREGORIAN
METHOD:PUBLISH
X-WR-CALNAME:GeoForum
X-ORIGINAL-URL:https://geoforum.no
X-WR-CALDESC:Arrangement for GeoForum
REFRESH-INTERVAL;VALUE=DURATION:PT1H
X-Robots-Tag:noindex
X-PUBLISHED-TTL:PT1H
BEGIN:VTIMEZONE
TZID:Europe/Oslo
BEGIN:DAYLIGHT
TZOFFSETFROM:+0100
TZOFFSETTO:+0200
TZNAME:CEST
DTSTART:20140330T010000
END:DAYLIGHT
BEGIN:STANDARD
TZOFFSETFROM:+0200
TZOFFSETTO:+0100
TZNAME:CET
DTSTART:20141026T010000
END:STANDARD
END:VTIMEZONE
BEGIN:VEVENT
DTSTART;TZID=Europe/Oslo:20141013T083000
DTEND;TZID=Europe/Oslo:20141014T150000
DTSTAMP:20260425T220201
CREATED:20140918T183115Z
LAST-MODIFIED:20141015T112544Z
UID:10011078-1413189000-1413298800@geoforum.no
SUMMARY:Eiendomskonferansen 2014
DESCRIPTION:GeoForum Hordaland i samarbeid med Jordskifterettene i Hordaland\, Kartverket i Bergen og Høgskolen i Bergen ønsker velkommen til den årlige eiendomskonferansen. Konferansen er fulltegnet. \nProgram Eiendomskonferansen \nForedrag fra Eiendomskonferansen 2014 \n 
URL:https://geoforum.no/event/eiensomskonferansen-2014/
LOCATION:Solstrand Hotel & Bad\, Solstrandveien 200\, Os\, 5201
CATEGORIES:Konferanse
ORGANIZER;CN="GeoForum Hordaland":MAILTO:janerik.forde@bergen.kommune.no
GEO:60.1890693;5.4876245
X-APPLE-STRUCTURED-LOCATION;VALUE=URI;X-ADDRESS=Solstrand Hotel & Bad Solstrandveien 200 Os 5201;X-APPLE-RADIUS=500;X-TITLE=Solstrandveien 200:geo:5.4876245,60.1890693
END:VEVENT
END:VCALENDAR