BEGIN:VCALENDAR
VERSION:2.0
PRODID:-//GeoForum - ECPv6.10.0//NONSGML v1.0//EN
CALSCALE:GREGORIAN
METHOD:PUBLISH
X-ORIGINAL-URL:https://geoforum.no
X-WR-CALDESC:Arrangement for GeoForum
REFRESH-INTERVAL;VALUE=DURATION:PT1H
X-Robots-Tag:noindex
X-PUBLISHED-TTL:PT1H
BEGIN:VTIMEZONE
TZID:Europe/Oslo
BEGIN:DAYLIGHT
TZOFFSETFROM:+0100
TZOFFSETTO:+0200
TZNAME:CEST
DTSTART:20140330T010000
END:DAYLIGHT
BEGIN:STANDARD
TZOFFSETFROM:+0200
TZOFFSETTO:+0100
TZNAME:CET
DTSTART:20141026T010000
END:STANDARD
END:VTIMEZONE
BEGIN:VEVENT
DTSTART;TZID=Europe/Oslo:20140925T083000
DTEND;TZID=Europe/Oslo:20140926T140000
DTSTAMP:20260425T231750
CREATED:20140918T121446Z
LAST-MODIFIED:20140922T120945Z
UID:10011074-1411633800-1411740000@geoforum.no
SUMMARY:Karttreff 2014
DESCRIPTION:GeoForum Rogaland inviterer til Kartreff 2014. Å skape kommunikasjon mellom de enkelte aktører er en viktig målsetning for Karttreffet. I tillegg er det viktig å kunne påvise nytteverdien ved felles bruk av ny og aktuell teknologi. Samarbeid gir ikke bare økonomiske og tidsmessige besparelser\, men også et bedre tilbud til publikum. Målgruppen for Karttreff et er både praktiske utøvere og forvaltere av stedfestet informasjon i privat og offentlig sektor.
URL:https://geoforum.no/event/karttreff-2014-2/
LOCATION:Sola Strand Hotel\, Axel Lunds veg 27\,  Sola\, 4050\, Norge
CATEGORIES:Lokale geomatikkdager
GEO:58.885057;5.6048095
X-APPLE-STRUCTURED-LOCATION;VALUE=URI;X-ADDRESS=Sola Strand Hotel Axel Lunds veg 27  Sola 4050 Norge;X-APPLE-RADIUS=500;X-TITLE=Axel Lunds veg 27:geo:5.6048095,58.885057
END:VEVENT
END:VCALENDAR